BEGIN:VCALENDAR
METHOD:PUBLISH
PRODID:-//franziskus.lu//NONSGML iCalcreator 2.4.3//
VERSION:2.0
BEGIN:VEVENT
UID:20260421T113748CEST-8197xNXpzB@franziskus.lu
DTSTAMP:20260421T093748Z
COMMENT:\n	Springlehrgang mit Dirk Hafemeister\n\n	&nbsp\;\n\n	&quot\;An me
 inen Lehrg&auml\;ngen kann jeder teilnehmen\, der Interesse daran hat\, vo
 n meinem Wissen zu profitieren. Die Leistungsklasse spielt dabei keine Rol
 le\, auch nicht ob man Turnierreiter sei&ldquo\; so &auml\;usserte sich de
 r Olympiasieger &uuml\;ber sein Klientel.
DESCRIPTION:\n	Springlehrgang mit Dirk Hafemeister\n\n	&nbsp\;\n\n	&quot\;A
 n meinen Lehrg&auml\;ngen kann jeder teilnehmen\, der Interesse daran hat\
 , von meinem Wissen zu profitieren. Die Leistungsklasse spielt dabei keine
  Rolle\, auch nicht ob man Turnierreiter sei&ldquo\; so &auml\;usserte sic
 h der Olympiasieger &uuml\;ber sein Klientel.
DTEND:20110123T000000
DTSTART:20110121T000000
LOCATION:Stegen
SUMMARY:Lehrgang
END:VEVENT
END:VCALENDAR
