BEGIN:VCALENDAR
METHOD:PUBLISH
PRODID:-//franziskus.lu//NONSGML iCalcreator 2.4.3//
VERSION:2.0
BEGIN:VEVENT
UID:20260421T113541CEST-8860aAMUM2@franziskus.lu
DTSTAMP:20260421T093541Z
COMMENT:\n	EquiShows Turnier
DESCRIPTION:\n	EquiShows Turnier
DTSTART:20110402T000000
LOCATION:Feelener Hecken
SUMMARY:Turnier
END:VEVENT
END:VCALENDAR
