BEGIN:VCALENDAR
METHOD:PUBLISH
PRODID:-//franziskus.lu//NONSGML iCalcreator 2.4.3//
VERSION:2.0
BEGIN:VEVENT
UID:20260421T114357CEST-0571WJEgn3@franziskus.lu
DTSTAMP:20260421T094357Z
COMMENT:\n	Clinic mit R&eacute\;jean Levesque
DESCRIPTION:\n	Clinic mit R&eacute\;jean Levesque
DTSTART:20110409T000000
LOCATION:Stegen
SUMMARY:Western Lehrgang
END:VEVENT
END:VCALENDAR
