BEGIN:VCALENDAR
METHOD:PUBLISH
PRODID:-//franziskus.lu//NONSGML iCalcreator 2.4.3//
VERSION:2.0
BEGIN:VEVENT
UID:20260421T114105CEST-1701AAV95k@franziskus.lu
DTSTAMP:20260421T094105Z
COMMENT:\n	Das zweite Turnier des Jahres wo eigentlich noch die Pr&uuml\;fu
 ngen festzulegen sind. Wir halten Sie weiter an dieser Stelle am Laufendem
 .
DESCRIPTION:\n	Das zweite Turnier des Jahres wo eigentlich noch die Pr&uuml
 \;fungen festzulegen sind. Wir halten Sie weiter an dieser Stelle am Laufe
 ndem.
DTSTART:20110625T000000
LOCATION:Stegen
SUMMARY:Turneier
END:VEVENT
END:VCALENDAR
