BEGIN:VCALENDAR
METHOD:PUBLISH
PRODID:-//franziskus.lu//NONSGML iCalcreator 2.4.3//
VERSION:2.0
BEGIN:VEVENT
UID:20260421T114155CEST-5032Oup87Z@franziskus.lu
DTSTAMP:20260421T094155Z
COMMENT:\n	Wann d&#39\;Wieder et erlaabt ass de Stage op eiser Aussenplaatz
 \, wann net\, dann ass den an der Haal
DESCRIPTION:\n	Wann d&#39\;Wieder et erlaabt ass de Stage op eiser Aussenpl
 aatz\, wann net\, dann ass den an der Haal
DTEND:20110220T000000
DTSTART:20110219T000000
LOCATION:Stegen
SUMMARY:Kutschentraining
END:VEVENT
END:VCALENDAR
